BEGIN:VCALENDAR
VERSION:2.0
PRODID:-//airedale-kft.de - ECPv6.15.20//NONSGML v1.0//EN
CALSCALE:GREGORIAN
METHOD:PUBLISH
X-WR-CALNAME:airedale-kft.de
X-ORIGINAL-URL:https://www.airedale-kft.de
X-WR-CALDESC:Veranstaltungen für airedale-kft.de
REFRESH-INTERVAL;VALUE=DURATION:PT1H
X-Robots-Tag:noindex
X-PUBLISHED-TTL:PT1H
BEGIN:VTIMEZONE
TZID:Europe/Berlin
BEGIN:DAYLIGHT
TZOFFSETFROM:+0100
TZOFFSETTO:+0200
TZNAME:CEST
DTSTART:20250330T010000
END:DAYLIGHT
BEGIN:STANDARD
TZOFFSETFROM:+0200
TZOFFSETTO:+0100
TZNAME:CET
DTSTART:20251026T010000
END:STANDARD
BEGIN:DAYLIGHT
TZOFFSETFROM:+0100
TZOFFSETTO:+0200
TZNAME:CEST
DTSTART:20260329T010000
END:DAYLIGHT
BEGIN:STANDARD
TZOFFSETFROM:+0200
TZOFFSETTO:+0100
TZNAME:CET
DTSTART:20261025T010000
END:STANDARD
BEGIN:DAYLIGHT
TZOFFSETFROM:+0100
TZOFFSETTO:+0200
TZNAME:CEST
DTSTART:20270328T010000
END:DAYLIGHT
BEGIN:STANDARD
TZOFFSETFROM:+0200
TZOFFSETTO:+0100
TZNAME:CET
DTSTART:20271031T010000
END:STANDARD
END:VTIMEZONE
BEGIN:VEVENT
DTSTART;VALUE=DATE:20260620
DTEND;VALUE=DATE:20260621
DTSTAMP:20260420T110039
CREATED:20260323T082956Z
LAST-MODIFIED:20260326T083538Z
UID:23737-1781913600-1781999999@www.airedale-kft.de
SUMMARY:Leistungsprüfung OG Südpfalz
DESCRIPTION:BH/VT\, IBGH\, IGP\, IFH \nSD Helfer Raoul Schmitt \nMeldungen unter schmittstefan@t-online.de Stefan Schmitt 0160-8848339 \nPL: Helga Wilhelm
URL:https://www.airedale-kft.de/veranstaltung/leistungspruefung-og-suedpfalz/
LOCATION:67374 Hanhofen\, Hanhofen\, 67374
CATEGORIES:Prüfung
END:VEVENT
BEGIN:VEVENT
DTSTART;VALUE=DATE:20260627
DTEND;VALUE=DATE:20260628
DTSTAMP:20260420T110039
CREATED:20260227T073941Z
LAST-MODIFIED:20260227T073941Z
UID:23626-1782518400-1782604799@www.airedale-kft.de
SUMMARY:Unterordnungs-Workshop KfT/BLV
DESCRIPTION:Unterordnungs Workshop KfT_062026 \nAusbau der Triebanalge\, Fußarbeit\, Apport\, Vorsitz – in Theorie und Praxis \nReferent: Edgar Huber\, BLV \nFreue dich auf einen informativen und praxisnahen Tag mit uns! \nWer kann teilnehmen?\nDer Workshop richtet sich an alle Interessierten – ganz gleich\, ob du gerade erst beginnst oder bereits sportlich ambitioniert trainierst. \nDie Trainingsinhalte werden individuell an euren jeweiligen Ausbildungsstand angepasst. \nDas erwartet euch:\n\nSystematischer Aufbau und gezielte Verfeinerung der Fußarbeit\nApportiertraining – korrektes Aufnehmen\, sicheres Tragen und sauberes Vorsitzen\n„Voran“ – strukturierter Trainingsaufbau\, Motivation und Arbeiten auf Distanz\nSchnelle und exakte Ausführung der Positionen (Sitz\, Platz\, Steh)\nTechnisch sauberer Aufbau von Sprüngen und Optimierung der Ausführung\nIndividuelle Betreuung mit maßgeschneiderten Trainingsansätzen\nEffektive und passende Bestätigung im Training\nRaum für Fragen\, Erfahrungsaustausch und praxisnahe Lösungsansätze\n\nDer Workshop gilt als KfT Fortbildung und kann in den Ausbilderschein eingetragen werden. \nAnmeldung                                   per E-Mail an unseren Ausbildungswart Herrn Erwin Thom. \nE-Mail: hundesport-thom@gmx.de\, mit vollständigem Namen\, Verein\, Mitgliedsnummer und ggfs. Ausbilderausweisnummer \n   Das Mitbringen von Hunden muss unbedingt schriftlich angemeldet werden\, mit Angabe was mit dem Vierbeiner gearbeitet\, bzw. gezeigt werden soll. \n  \nAnmeldebestätigung                  nach Eingang der Anmeldung zeitnah per E-Mail. \n  \nTeilnahmegebühr                         60\,00 Euro ohne Hund \n                                                            65\,00 Euro mit Hund \nMitglieder der OG München von 1909 erhalten 5\,00 Euro Rabatt. \nFür die notwendige Stärkung zwischendurch wird natürlich bestens gesorgt. \n  \nMeldeschluss                                 13. Juni 2026 \n  \nDa die Teilnehmerzahl begrenzt ist\, empfehlen wir\, sich frühzeitig anzumelden.
URL:https://www.airedale-kft.de/veranstaltung/unterordnungs-workshop-kft-blv/
LOCATION:93333 Neustadt a.D.\, Raffineriestrasse\, Neustadt\, 93333
CATEGORIES:Seminar
END:VEVENT
BEGIN:VEVENT
DTSTART;VALUE=DATE:20260705
DTEND;VALUE=DATE:20260706
DTSTAMP:20260420T110039
CREATED:20260323T083202Z
LAST-MODIFIED:20260323T083202Z
UID:23739-1783209600-1783295999@www.airedale-kft.de
SUMMARY:KfT-Klubsieger-Ausstellung
DESCRIPTION:AL: Isolde Heydt-Busch\nBerliner Str. 47\n66557 Illingen\nTel: 06825 2789\nFax: 06825 410590\nE-Mail: isoldeheydt-busch@t-online.de\nDateianhang 1: 2026-07-04-05_KSA_Alsfeld.pdf
URL:https://www.airedale-kft.de/veranstaltung/kft-klubsieger-ausstellung/
LOCATION:36304 Alsfeld\, Alsfeld\, 36304\, Deutschland
CATEGORIES:Ausstellung
END:VEVENT
BEGIN:VEVENT
DTSTART;VALUE=DATE:20260725
DTEND;VALUE=DATE:20260726
DTSTAMP:20260420T110039
CREATED:20251103T065355Z
LAST-MODIFIED:20251103T065355Z
UID:22973-1784937600-1785023999@www.airedale-kft.de
SUMMARY:Leistungsprüfung OG Osnabrücker Land
DESCRIPTION:BH/VT\, IBGH \nPL: Annemarie Heinecke\nAm Reiterweg 28a\n49324 Melle\nMobil: 0176 61543489\nE-Mail: heinecke.border@web.de
URL:https://www.airedale-kft.de/veranstaltung/leistungspruefung-og-osnabruecker-land/
LOCATION:49536 Lienen\, Niggeweg
CATEGORIES:Prüfung
END:VEVENT
BEGIN:VEVENT
DTSTART;VALUE=DATE:20260731
DTEND;VALUE=DATE:20260803
DTSTAMP:20260420T110039
CREATED:20250917T070327Z
LAST-MODIFIED:20250917T070608Z
UID:22654-1785456000-1785715199@www.airedale-kft.de
SUMMARY:VDH DM IGP 2026
DESCRIPTION:Die VDH Deutsche Meisterschaft IGP 2026 findet am ersten Augustwochenende in Petersaurach statt. \nAusrichter DMC
URL:https://www.airedale-kft.de/veranstaltung/vdh-dm-igp-2026/
LOCATION:Petersaurach\, Petersaurach\, 91580\, Germany
CATEGORIES:Prüfung
ATTACH;FMTTYPE=image/jpeg:https://www.airedale-kft.de/wp-content/uploads/2025/09/VDHDMIGP2026.jpg
END:VEVENT
BEGIN:VEVENT
DTSTART;VALUE=DATE:20260823
DTEND;VALUE=DATE:20260824
DTSTAMP:20260420T110039
CREATED:20260415T113836Z
LAST-MODIFIED:20260415T113836Z
UID:23858-1787443200-1787529599@www.airedale-kft.de
SUMMARY:Leistungsprüfung OG Nürnberg
DESCRIPTION:LR: Holger Lumbe \nBH\, IGP\, Sonst.\, FH \nInfos unter: https://neu.terrier-og-nuernberg.de/kft-pruefung-am-23-08-2026-in-schwand
URL:https://www.airedale-kft.de/veranstaltung/leistungspruefung-og-nuernberg/
LOCATION:90596 Schwand\, In der Alting 8\, Schwanstetten\, 90596\, Germany
CATEGORIES:Prüfung
ORGANIZER;CN="KfT OG N%C3%BCrnberg":MAILTO:ritthammer@airedale-kft.de
END:VEVENT
BEGIN:VEVENT
DTSTART;VALUE=DATE:20260919
DTEND;VALUE=DATE:20260921
DTSTAMP:20260420T110039
CREATED:20260115T140004Z
LAST-MODIFIED:20260217T073859Z
UID:23397-1789776000-1789948799@www.airedale-kft.de
SUMMARY:KfT Mitgliederversammlung
DESCRIPTION:… in Kelsterbach \nhttps://www.airedale-kft.de/mitgliederversammlung-2024/ 
URL:https://www.airedale-kft.de/veranstaltung/kft-mitgliederversammlung/
LOCATION:65451 Kelsterbach\, Bergstr. 20\, Kelsterbach\, 65451
CATEGORIES:Versammlung
END:VEVENT
BEGIN:VEVENT
DTSTART;VALUE=DATE:20261003
DTEND;VALUE=DATE:20261005
DTSTAMP:20260420T110039
CREATED:20251222T143824Z
LAST-MODIFIED:20251222T143824Z
UID:23270-1790985600-1791158399@www.airedale-kft.de
SUMMARY:KfT Deutsche Meisterschaft IGP
DESCRIPTION:weitere Infos unter: \nhttps://www.airedale-kft.de/infos-dm-igp-3-4-oktober-2026-osterburg/
URL:https://www.airedale-kft.de/veranstaltung/kft-deutsche-meisterschaft-igp/
LOCATION:39606 Osterburg\, Arendseer Straße 4\, Osterburg\, 39606\, Germany
CATEGORIES:Prüfung
END:VEVENT
BEGIN:VEVENT
DTSTART;VALUE=DATE:20261024
DTEND;VALUE=DATE:20261026
DTSTAMP:20260420T110039
CREATED:20251103T065553Z
LAST-MODIFIED:20251103T065553Z
UID:22975-1792800000-1792972799@www.airedale-kft.de
SUMMARY:KfT Deutsche Meisterschaft der Fährtenhunde
DESCRIPTION:IGP-FH\nVeranstalter: KfT / Ausrichter: OG Leine-Unstrut\nPL: Heinz-Erich Löhr\nAn der Klunkau 4\n31185 Söhlde\nTel.: 05123 359\nMobil: 0152 27100900\nE-Mail: lro@kft-online.de
URL:https://www.airedale-kft.de/veranstaltung/kft-deutsche-meisterschaft-der-faehrtenhunde/
LOCATION:99986 Kammerforst\, Kammerforst\, 99986
ORGANIZER;CN="KfT OG Leine Unstrut":MAILTO:t.dugan@web.de
END:VEVENT
BEGIN:VEVENT
DTSTART;VALUE=DATE:20261106
DTEND;VALUE=DATE:20261108
DTSTAMP:20260420T110039
CREATED:20251222T144823Z
LAST-MODIFIED:20251222T144823Z
UID:23283-1793923200-1794095999@www.airedale-kft.de
SUMMARY:Leistungsprüfung OG Nürnberg
DESCRIPTION:BH\, IGP\, FH\, Sonst. \nLR: Hubert Olbing \nPL: Dieter Brandt \nMeldungen: ritthammer@airedale-kft.de
URL:https://www.airedale-kft.de/veranstaltung/leistungspruefung-og-nuernberg-5/
LOCATION:90596 Schwand\, In der Alting 8\, Schwanstetten\, 90596\, Germany
CATEGORIES:Prüfung
ORGANIZER;CN="KfT OG N%C3%BCrnberg":MAILTO:ritthammer@airedale-kft.de
END:VEVENT
BEGIN:VEVENT
DTSTART;VALUE=DATE:20261107
DTEND;VALUE=DATE:20261108
DTSTAMP:20260420T110039
CREATED:20260223T083746Z
LAST-MODIFIED:20260223T083746Z
UID:23597-1794009600-1794095999@www.airedale-kft.de
SUMMARY:Leistungsprüfung OG Südthüringen
DESCRIPTION:BH/VT\, IBGH\, IGP\, IFH \nPL: Birgit Rabatin-Linke\nAm Lindenberg 38\n98693 Ilmenau\nMobil: 0176 31595079
URL:https://www.airedale-kft.de/veranstaltung/leistungspruefung-og-suedthueringen-4/
LOCATION:98693 Ilmenau\, Oehrenstöcker Landstraße
CATEGORIES:Prüfung
END:VEVENT
BEGIN:VEVENT
DTSTART;VALUE=DATE:20261108
DTEND;VALUE=DATE:20261109
DTSTAMP:20260420T110039
CREATED:20251222T144911Z
LAST-MODIFIED:20251222T144911Z
UID:23285-1794096000-1794182399@www.airedale-kft.de
SUMMARY:Leistungsprüfung OG Nürnberg
DESCRIPTION:BH\, IGP\, FH\, Sonst. \nLR: Hubert Olbing \nPL: Dieter Brandt \nMeldungen: ritthammer@airedale-kft.de
URL:https://www.airedale-kft.de/veranstaltung/leistungspruefung-og-nuernberg-6/
LOCATION:90596 Schwand\, In der Alting 8\, Schwanstetten\, 90596\, Germany
CATEGORIES:Prüfung
ORGANIZER;CN="KfT OG N%C3%BCrnberg":MAILTO:ritthammer@airedale-kft.de
END:VEVENT
END:VCALENDAR