BEGIN:VCALENDAR
VERSION:2.0
PRODID:-//airedale-kft.de - ECPv6.15.20//NONSGML v1.0//EN
CALSCALE:GREGORIAN
METHOD:PUBLISH
X-WR-CALNAME:airedale-kft.de
X-ORIGINAL-URL:https://www.airedale-kft.de
X-WR-CALDESC:Veranstaltungen für airedale-kft.de
REFRESH-INTERVAL;VALUE=DURATION:PT1H
X-Robots-Tag:noindex
X-PUBLISHED-TTL:PT1H
BEGIN:VTIMEZONE
TZID:Europe/Berlin
BEGIN:DAYLIGHT
TZOFFSETFROM:+0100
TZOFFSETTO:+0200
TZNAME:CEST
DTSTART:20250330T010000
END:DAYLIGHT
BEGIN:STANDARD
TZOFFSETFROM:+0200
TZOFFSETTO:+0100
TZNAME:CET
DTSTART:20251026T010000
END:STANDARD
BEGIN:DAYLIGHT
TZOFFSETFROM:+0100
TZOFFSETTO:+0200
TZNAME:CEST
DTSTART:20260329T010000
END:DAYLIGHT
BEGIN:STANDARD
TZOFFSETFROM:+0200
TZOFFSETTO:+0100
TZNAME:CET
DTSTART:20261025T010000
END:STANDARD
BEGIN:DAYLIGHT
TZOFFSETFROM:+0100
TZOFFSETTO:+0200
TZNAME:CEST
DTSTART:20270328T010000
END:DAYLIGHT
BEGIN:STANDARD
TZOFFSETFROM:+0200
TZOFFSETTO:+0100
TZNAME:CET
DTSTART:20271031T010000
END:STANDARD
END:VTIMEZONE
BEGIN:VEVENT
DTSTART;VALUE=DATE:20261003
DTEND;VALUE=DATE:20261005
DTSTAMP:20260420T201604
CREATED:20251222T143824Z
LAST-MODIFIED:20251222T143824Z
UID:23270-1790985600-1791158399@www.airedale-kft.de
SUMMARY:KfT Deutsche Meisterschaft IGP
DESCRIPTION:weitere Infos unter: \nhttps://www.airedale-kft.de/infos-dm-igp-3-4-oktober-2026-osterburg/
URL:https://www.airedale-kft.de/veranstaltung/kft-deutsche-meisterschaft-igp/
LOCATION:39606 Osterburg\, Arendseer Straße 4\, Osterburg\, 39606\, Germany
CATEGORIES:Prüfung
END:VEVENT
END:VCALENDAR