BEGIN:VCALENDAR
VERSION:2.0
PRODID:-//airedale-kft.de - ECPv6.15.20//NONSGML v1.0//EN
CALSCALE:GREGORIAN
METHOD:PUBLISH
X-WR-CALNAME:airedale-kft.de
X-ORIGINAL-URL:https://www.airedale-kft.de
X-WR-CALDESC:Veranstaltungen für airedale-kft.de
REFRESH-INTERVAL;VALUE=DURATION:PT1H
X-Robots-Tag:noindex
X-PUBLISHED-TTL:PT1H
BEGIN:VTIMEZONE
TZID:Europe/Berlin
BEGIN:DAYLIGHT
TZOFFSETFROM:+0100
TZOFFSETTO:+0200
TZNAME:CEST
DTSTART:20250330T010000
END:DAYLIGHT
BEGIN:STANDARD
TZOFFSETFROM:+0200
TZOFFSETTO:+0100
TZNAME:CET
DTSTART:20251026T010000
END:STANDARD
BEGIN:DAYLIGHT
TZOFFSETFROM:+0100
TZOFFSETTO:+0200
TZNAME:CEST
DTSTART:20260329T010000
END:DAYLIGHT
BEGIN:STANDARD
TZOFFSETFROM:+0200
TZOFFSETTO:+0100
TZNAME:CET
DTSTART:20261025T010000
END:STANDARD
BEGIN:DAYLIGHT
TZOFFSETFROM:+0100
TZOFFSETTO:+0200
TZNAME:CEST
DTSTART:20270328T010000
END:DAYLIGHT
BEGIN:STANDARD
TZOFFSETFROM:+0200
TZOFFSETTO:+0100
TZNAME:CET
DTSTART:20271031T010000
END:STANDARD
END:VTIMEZONE
BEGIN:VEVENT
DTSTART;VALUE=DATE:20260524
DTEND;VALUE=DATE:20260525
DTSTAMP:20260420T121712
CREATED:20260223T083441Z
LAST-MODIFIED:20260223T083441Z
UID:23595-1779580800-1779667199@www.airedale-kft.de
SUMMARY:Rally OB OG Stadensen-Heide
DESCRIPTION:Rally OB 1 / 2 / 3 / Senioren \nPL: Surine Splett\nAhornweg 10\n29410 Salzwedel\nMobil: 0171 6199945\nE-Mail: surine.ss@googlemail.com
URL:https://www.airedale-kft.de/veranstaltung/rally-ob-og-stadensen-heide/
LOCATION:39606 Osterburg\, Arendseer Straße 4\, Osterburg\, 39606\, Germany
CATEGORIES:Prüfung
ORGANIZER;CN="KfT OG Stadensen-Heide":MAILTO:info@pflegeberatung-weissbach.de
END:VEVENT
BEGIN:VEVENT
DTSTART;VALUE=DATE:20260524
DTEND;VALUE=DATE:20260526
DTSTAMP:20260420T121712
CREATED:20260313T093156Z
LAST-MODIFIED:20260313T093156Z
UID:23692-1779580800-1779753599@www.airedale-kft.de
SUMMARY:Arena Pfingstcup IGP
DESCRIPTION:Infos und Anmeldung unter: \nhttps://www.airedale-kft.de/arena-pfingstcup-igp-am-24-25-mai-2026/ 
URL:https://www.airedale-kft.de/veranstaltung/arena-pfingstcup-igp/
LOCATION:41836 Hückelhoven\, Zechenring 56\, Hückelhoven\, 41836\, Germany
CATEGORIES:Prüfung
ATTACH;FMTTYPE=image/jpeg:https://www.airedale-kft.de/wp-content/uploads/2026/03/Arena_Pfingstcup2025_1.jpg
ORGANIZER;CN="SH Dogsport Arena":MAILTO:info@sh-dogsport.de
END:VEVENT
END:VCALENDAR